BEGIN:VCALENDAR
VERSION:2.0
PRODID:-//eventon.com NONSGML v1.0//EN
CALSCALE:GREGORIAN
METHOD:PUBLISH
BEGIN:VEVENT
UID:69e74dbf772e0
DTSTAMP:20260421T101319Z
DTSTART:20260305T160000Z
DTEND:20260305T210000Z
LOCATION:Le ThÃ©Ã¢tre de Verviers Rue des Artistes 2 4800 VERVIERS
SUMMARY:Visite du ThÃ©Ã¢tre de Verviers
DESCRIPTION:[vc_row][vc_column][vc_column_text css=Â Â»Â Â»] Chers membres\
 , Â  Nous avons le plaisir de vous inviter Ã  dÃ©couvrirÂ les coulisses dâ€
 ™un projet emblÃ©matiqueÂ qui faÃ§onne lâ€™avenir de Verviers : laÂ visite 
 du chantier du Grand ThÃ©Ã¢tre\,  suivie dâ€™un moment dâ€™Ã©changes privil
 Ã©giÃ© entre membres. Au programme Accueil sur site Visite guidÃ©e du chant
 ier du Grand ThÃ©Ã¢tre Repas convivial dans[..]\nhttps://www.clubeph.be/eve
 nts/visite-du-theatre-de-verviers/
URL:https://www.clubeph.be/events/visite-du-theatre-de-verviers/
END:VEVENT
END:VCALENDAR